BEGIN:VCALENDAR
VERSION:2.0
PRODID:-//wp-events-plugin.com//7.2.3.1//EN
TZID:America/Lima
X-WR-TIMEZONE:America/Lima
BEGIN:VEVENT
UID:119@agropuno.gob.pe
DTSTART:20260424T140000Z
DTEND:20260424T160000Z
DTSTAMP:20260423T202711Z
URL:https://www.agropuno.gob.pe/eventos/reunion-para-la-conformacion-del-c
 omite-organizador-de-fegasur-2026/
SUMMARY:REUNION PARA LA CONFORMACIÓN DEL CÓMITE ORGANIZADOR DE FEGASUR - 
 2026
DESCRIPTION:En la sala de reunion de la Gerencia Regional de Desarrollo Agr
 ario de llevara acabo la eleccion del comite organizador de FEGASUR 2026
CATEGORIES:Agenda
END:VEVENT
END:VCALENDAR