BEGIN:VCALENDAR
VERSION:2.0
PRODID:-//wp-events-plugin.com//7.2.3.1//EN
TZID:America/Lima
X-WR-TIMEZONE:America/Lima
BEGIN:VEVENT
UID:118@agropuno.gob.pe
DTSTART:20260423T103000Z
DTEND:20260423T130000Z
DTSTAMP:20260423T202331Z
URL:https://www.agropuno.gob.pe/eventos/reunion-de-la-mesa-de-gobernanza-p
 ara-el-desarrollo-del-ecosistema-de-emprendimiento-descosur/
SUMMARY:REUNION DE LA MESA DE GOBERNANZA PARA EL DESARROLLO DEL ECOSISTEMA 
 DE  EMPRENDIMIENTO -DESCOSUR
DESCRIPTION:En las instalaciones del Hotel Colonial se realizará la reunio
 n de mesa de DESCOSUR
CATEGORIES:Agenda
END:VEVENT
END:VCALENDAR