BEGIN:VCALENDAR
VERSION:2.0
PRODID:-//wp-events-plugin.com//7.2.3.1//EN
TZID:America/Lima
X-WR-TIMEZONE:America/Lima
BEGIN:VEVENT
UID:80@agropuno.gob.pe
DTSTART:20250126T100000Z
DTEND:20250126T150000Z
DTSTAMP:20250113T142534Z
URL:https://www.agropuno.gob.pe/eventos/reunion-con-productores-en-la-prov
 incia-de-sandia/
SUMMARY:REUNION CON PRODUCTORES EN LA PROVINCIA DE SANDIA
DESCRIPTION:En la provincia de Sandia se llevara se llevara a cabo la reuni
 ón de trabajo con productores frutícolas
CATEGORIES:Agenda
END:VEVENT
END:VCALENDAR