BEGIN:VCALENDAR
VERSION:2.0
PRODID:-//wp-events-plugin.com//7.2.3.1//EN
TZID:America/Lima
X-WR-TIMEZONE:America/Lima
BEGIN:VEVENT
UID:120@agropuno.gob.pe
DTSTART:20260428T090000Z
DTEND:20260428T120000Z
DTSTAMP:20260423T203812Z
URL:https://www.agropuno.gob.pe/eventos/participacion-en-la-ceremonia-por-
 el-lxiv-aniversario-de-la-facultad-de-ciencias-agrarias/
SUMMARY:PARTICIPACIÓN EN LA CEREMONIA POR EL LXIV ANIVERSARIO DE LA FACULT
 AD DE CIENCIAS AGRARIAS
DESCRIPTION:La ceremonia se realizará en la sala de reuniones de la GRDA
CATEGORIES:Agenda
END:VEVENT
END:VCALENDAR