BEGIN:VCALENDAR
VERSION:2.0
PRODID:-//wp-events-plugin.com//7.2.3.1//EN
TZID:America/Lima
X-WR-TIMEZONE:America/Lima
BEGIN:VEVENT
UID:121@agropuno.gob.pe
DTSTART:20260428T090000Z
DTEND:20260428T130000Z
DTSTAMP:20260423T205825Z
URL:https://www.agropuno.gob.pe/eventos/ii-reunion-de-los-comites-ecoefici
 entes-en-las-instituciones-del-estado-region-puno/
SUMMARY:II REUNION DE LOS CÓMITES ECOEFICIENTES EN LAS INSTITUCIONES DEL E
 STADO REGION PUNO
DESCRIPTION:En las instalaciones de la DIREPRO\, se llevara la presente reu
 nion
CATEGORIES:Agenda
END:VEVENT
END:VCALENDAR